BEGIN:VCALENDAR
VERSION:2.0
PRODID:-//World Archery Oceania - ECPv6.15.16//NONSGML v1.0//EN
CALSCALE:GREGORIAN
METHOD:PUBLISH
X-WR-CALNAME:World Archery Oceania
X-ORIGINAL-URL:https://worldarcheryoceania.org
X-WR-CALDESC:Events for World Archery Oceania
REFRESH-INTERVAL;VALUE=DURATION:PT1H
X-Robots-Tag:noindex
X-PUBLISHED-TTL:PT1H
BEGIN:VTIMEZONE
TZID:Pacific/Auckland
BEGIN:STANDARD
TZOFFSETFROM:+1300
TZOFFSETTO:+1200
TZNAME:NZST
DTSTART:20230401T140000
END:STANDARD
BEGIN:DAYLIGHT
TZOFFSETFROM:+1200
TZOFFSETTO:+1300
TZNAME:NZDT
DTSTART:20230923T140000
END:DAYLIGHT
BEGIN:STANDARD
TZOFFSETFROM:+1300
TZOFFSETTO:+1200
TZNAME:NZST
DTSTART:20240406T140000
END:STANDARD
BEGIN:DAYLIGHT
TZOFFSETFROM:+1200
TZOFFSETTO:+1300
TZNAME:NZDT
DTSTART:20240928T140000
END:DAYLIGHT
BEGIN:STANDARD
TZOFFSETFROM:+1300
TZOFFSETTO:+1200
TZNAME:NZST
DTSTART:20250405T140000
END:STANDARD
BEGIN:DAYLIGHT
TZOFFSETFROM:+1200
TZOFFSETTO:+1300
TZNAME:NZDT
DTSTART:20250927T140000
END:DAYLIGHT
BEGIN:STANDARD
TZOFFSETFROM:+1300
TZOFFSETTO:+1200
TZNAME:NZST
DTSTART:20260404T140000
END:STANDARD
BEGIN:DAYLIGHT
TZOFFSETFROM:+1200
TZOFFSETTO:+1300
TZNAME:NZDT
DTSTART:20260926T140000
END:DAYLIGHT
END:VTIMEZONE
BEGIN:VEVENT
DTSTART;VALUE=DATE:20251010
DTEND;VALUE=DATE:20251013
DTSTAMP:20260421T163852
CREATED:20250320T033015Z
LAST-MODIFIED:20250320T033015Z
UID:1056-1760054400-1760313599@worldarcheryoceania.org
SUMMARY:World Archery Oceania Cup 2025
DESCRIPTION:The World Archery Oceania Executive board would like to invite you all to the inaugural “World Archery Oceania Cup” to be held in Nadi\, Fiji\, from the 10-12th of October 2025. \nThis tournament was developed specifically to ensure that WAO will have Continental competitions offered for MAs and their Archers to participate in\, on a more regular basis\, with the hope that it would help our MAs and their athletes to stay competitive and consistent\, especially leading into Olympic years. \nWe look forward to seeing you there and hope to see more events like this offered for all of our MAs in the near future. \nKind regards\, \nArne Falekaono Jensen\,\nPresident\nWAO \nOn behalf of Fiji Archery I will sending out an invitation package to all Member Associations in the coming weeks\, for now book those dates in your shooting calendar. The Oceania Cup is open to all archers from U18\, U21\, Open\, and Masters divisions. \nWe don’t require a selection process for archers to attend. Any questions\, please let me know at secretary@worldarcheryoceania.org.
URL:https://worldarcheryoceania.org/event/world-archery-oceania-cup-2025/
LOCATION:Nadi\, Fiji\, Nadi\, Fiji
CATEGORIES:Oceania Events
ATTACH;FMTTYPE=image/jpeg:https://worldarcheryoceania.org/wp-content/uploads/Compound-grows-in-Fiji.jpg
ORGANIZER;CN="WAO":MAILTO:secretary@worldarcheryoceania.org
END:VEVENT
BEGIN:VEVENT
DTSTART;TZID=Pacific/Auckland:20250816T080000
DTEND;TZID=Pacific/Auckland:20250817T170000
DTSTAMP:20260421T163852
CREATED:20250212T001323Z
LAST-MODIFIED:20250212T001323Z
UID:972-1755331200-1755450000@worldarcheryoceania.org
SUMMARY:Archery NZ National Indoor Championships 2025
DESCRIPTION:Dear Member Associations\, \nThe Local Organising Committee of the Manawatu Archery Club who is hosting the Archery NZ Indoor Nationals 2025 would like to invite you to attend this upcoming event. \nThe event is being held in Palmerston North\, New Zealand on the 16/17 August 2025. \nThe rounds will be 2 x 18m followed by teams matchplay on the Saturday\, this will then be followed on the Sunday with the individual matchplay. \nAll archers will be shooting together but there will be international medals to be won. \nThe entry form is via Archery NZ’s archeryosa which is below \n2025 National Indoor Championships | Archery OSA \nIf you are having problems with entering this event\, please email me. \nkind regards \nPatsy \nSecretary
URL:https://worldarcheryoceania.org/event/archery-nz-national-indoor-championships-2025/
LOCATION:Central Energy Trust Arena\, 61 Pascal Street\, Palmerston North\, New Zealand
CATEGORIES:Oceania Member Events
ATTACH;FMTTYPE=image/jpeg:https://worldarcheryoceania.org/wp-content/uploads/ANZ-indoor-championships-2019.jpg
END:VEVENT
BEGIN:VEVENT
DTSTART;TZID=Pacific/Auckland:20250418T080000
DTEND;TZID=Pacific/Auckland:20250424T170000
DTSTAMP:20260421T163852
CREATED:20250212T001103Z
LAST-MODIFIED:20250212T001103Z
UID:970-1744963200-1745514000@worldarcheryoceania.org
SUMMARY:Archery NZ National Outdoor Championships 2025
DESCRIPTION:An invitation is extended to all archers to come and enjoy with us the 81st Archery New Zealand National Championships & Matchplay Open in 2025\, in Auckland. The National Championships aim to cater for all archers regardless of skill level. We would like to see as many archers as possible at the event to enjoy the fun\, friendship\, and competition. \nThe Target Championships will be decided on the combined results of the two WA 72-arrow rounds\, which will also be used as the ranking round for all Match play events. Both Individual and 3-person team match play events will be held. Youth events are designed to accommodate younger archers with distances appropriate to their skill levels\, and with helpers to assist with scoring for the younger archers. \nThe Target and Clout Championships and the Matchplay events will be held at Rongomai Park\, Te Irirangi Drive\, East Tamaki. \nThe Field Championships will be decided on the combined results from two field rounds: a 24 target WA unmarked 3D round\, and a WA 24 target marked round. The venue is Massey Archery Club\, 167 Annett Road\, Kūmeu. \nWe will host the banquet and prize giving awards in the evening of the Finals Day\, and we hope you can join us in celebrating our athletes’ and clubs’ successes. \nPlease encourage your archery friends and your supporters to join you this year at the 81st National Outdoor Championships and to participate at whatever level you all enjoy.  We also invite overseas archers to join us at this event.  We look forward to seeing you in Easter 2025. \nAndrew Russell \nOn behalf of the Auckland Archery Club Local Organising Committee
URL:https://worldarcheryoceania.org/event/archery-nz-national-outdoor-championships-2025/
LOCATION:Rongomai Park\, Rongomai Park\, Auckland\, New Zealand
CATEGORIES:Oceania Member Events
ATTACH;FMTTYPE=image/png:https://worldarcheryoceania.org/wp-content/uploads/logo_ArcheryNZ-white.png
END:VEVENT
BEGIN:VEVENT
DTSTART;VALUE=DATE:20250401
DTEND;VALUE=DATE:20250601
DTSTAMP:20260421T163852
CREATED:20250206T214934Z
LAST-MODIFIED:20250402T211032Z
UID:959-1743465600-1748735999@worldarcheryoceania.org
SUMMARY:Oceania Challenge 2025
DESCRIPTION:Dear Member Associations\,\nWishing you all a Happy New Year.\nAfter listening to the feedback I received from last years Oceania Challenge we have moved the months to April/May.\nMany said they were having to change their bow set ups from winter to summer for this shoot.\nAs April/May is in our summer months I hope this will work better for our archers.\nI have made some changes to the results spreadsheet. This is to help manage the amount of time that is spent on organising the results and to keep the wording consistent. You will find that there is now drop down boxes with country codes\, class\, division and gender with the round box already being filled in. I welcome your feedback on the new spreadsheet.\nThe results will need to be received no later than Sunday 15th June 2025 @5pm NZ Time\nI would also like to ask that clubs please provide a postal address for certificates to be posted. This will again speed up the process of having certificates sent to those that have won them.\nAny questions\, please send me an email.\nkind regards\nPatsy\nSecretary General \n  \nScorecard Download \nResults Spreadsheet Template \nChallenge Guidelines download
URL:https://worldarcheryoceania.org/event/oceania-challenge-2025/
CATEGORIES:Oceania Challenge,Oceania Events
ATTACH;FMTTYPE=image/jpeg:https://worldarcheryoceania.org/wp-content/uploads/Palau-National-team-members.jpg
ORGANIZER;CN="WAO":MAILTO:secretary@worldarcheryoceania.org
END:VEVENT
BEGIN:VEVENT
DTSTART;VALUE=DATE:20250317
DTEND;VALUE=DATE:20250319
DTSTAMP:20260421T163852
CREATED:20241021T201040Z
LAST-MODIFIED:20241021T201040Z
UID:791-1742169600-1742342399@worldarcheryoceania.org
SUMMARY:National Judges Course 17 and 18 March 2025
DESCRIPTION:World Archery Oceania is hosting a National Judges Course 17/18 March 2025 in Auckland\, New Zealand. \nWorld Archery recognises the following levels of judges; \n\nNational Judge NJ\nContinental Judge CJ\nInternational Judge Candidate IJC\nInternational Judge IJ (and Youth Judge YJ)\n\nThe purpose of this course is to provide an opportunity for those wanting to become a National Judge\, who are supported by their National Associations\, to receive training and sit for a World Archery Oceania “National Judge” accreditation. \nPlaces are limited to 2 per Member Association however a third may be accepted if there are places available after nominations have been received. \nThe course is only for those National Associations that do not have an Officiating Program and do not accredit their own National Judges. \nAccreditation is not transferable between National Associations without the approval of World Archery Oceania. \nThe accreditation is for a nominal 4 year period. \nAccredited National Judges must remain as active judges within their National Association and will be required to demonstrate this each year. \nLocation/Venue: \nAuckland\, New Zealand \n2 Nights shared accommodation \nBreakfast/Lunch/Dinner provided \n Course/Accreditation: \nThe Seminar will be conducted in English. \nPlease note applications must be received by me on or before the 1 December 2024. \nIf your nominated person requires an invitation letter please let me know and I will have one organised. \nFULL DETAILS HERE: INVITATION NJ Course 2025-1 \nAny questions please email me. \nkind regards \nPatsy
URL:https://worldarcheryoceania.org/event/national-judges-course-17-and-18-march-2025/
CATEGORIES:Oceania Events
ATTACH;FMTTYPE=image/jpeg:https://worldarcheryoceania.org/wp-content/uploads/Judges-WAO-Championships-Adelaide-2023.jpg
ORGANIZER;CN="WAO":MAILTO:secretary@worldarcheryoceania.org
END:VEVENT
BEGIN:VEVENT
DTSTART;VALUE=DATE:20250314
DTEND;VALUE=DATE:20250318
DTSTAMP:20260421T163852
CREATED:20240429T013902Z
LAST-MODIFIED:20240429T014021Z
UID:664-1741910400-1742255999@worldarcheryoceania.org
SUMMARY:World Games Qualifying Tournament (Compound) 2025
DESCRIPTION:Please find enclosed detailed information regarding this event. To register for participation\, complete all the necessary sections in WAREOS (https://extranet.worldarchery.sport) within the deadlines listed below. \nSUMMARY OF KEY DATES \n\nRegistration Open (WAREOS) 15/09/2024\nPreliminary Entries (50% deposit) 15/11/2024\nFinal Entries and Full Refund Cancellation Deadline* 31/01/2025\nFinal date for payment 15/02/2025\n\n*After this deadline\, the LOC may retain all amounts paid by the Member Association \nPlease adhere to the provided deadlines. It is imperative for Member Associations to update WAREOS with any changes\, including cancellations or modifications\, even after submitting a preliminary entry. Non-compliance may result in additional penalties. \nPRELIMINARY PROGRAM \nFriday 14 March 2025: Arrival of Participants \nSaturday 15 March 2025 \n\n9.00am Registration & Equipment Inspection\n9.30am Unofficial Practice\n10.30am Team Managers Meeting\n12.30pm Official welcome; Official practice\n1.00pm 720 ranking round\n\nSunday 16 March 2025 \n\n9.30am Warm-up\n10.00am Individual Matchplay (simultaneous shooting) Men & women shoot concurrently\n\nMonday 17 March 2025: Departure of Teams \nNote: This is a preliminary program and subject to change according to the number of participants. All changes will be published and distributed in advance. \nFor full details download the invitation sheet here.
URL:https://worldarcheryoceania.org/event/world-games-qualifying-tournament-compound-2025/
LOCATION:Auckland Archery Club\, Kenneth Myers Drive\, One Tree Hill\, Auckland\, Auckland\, New Zealand
CATEGORIES:World Games
ORGANIZER;CN="WAO":MAILTO:secretary@worldarcheryoceania.org
END:VEVENT
BEGIN:VEVENT
DTSTART;VALUE=DATE:20240801
DTEND;VALUE=DATE:20241001
DTSTAMP:20260421T163852
CREATED:20240429T020403Z
LAST-MODIFIED:20240429T020625Z
UID:676-1722470400-1727740799@worldarcheryoceania.org
SUMMARY:Oceania Challenge 2024
DESCRIPTION:The Oceania Challenge is an online tournament to engage our Member Associations in competitive shooting. It is open to all members of current financial WAO Member Associations. Members who study or work in a country other than their own may compete for their home country\, as long as they hold a passport for their country or are affiliated with their country. \nThe competition will be shot on individual club grounds\, there is no need to organise a national event. However\, if it is feasible MAs may do so and use this as their national championships\, if no other event has been organised. \nEach host club chooses one or more suitable dates during the months of August/September 2024. Participants may compete more than once but only one result per person may be submitted (no multiple entries with different bow types or in different age groups). \nFor further information please download and read the attached Guidelines. \nYou can download the official scorecard here.
URL:https://worldarcheryoceania.org/event/oceania-challenge-2024/
CATEGORIES:Oceania Challenge
ATTACH;FMTTYPE=image/jpeg:https://worldarcheryoceania.org/wp-content/uploads/oceania-target.jpg
ORGANIZER;CN="WAO":MAILTO:secretary@worldarcheryoceania.org
END:VEVENT
BEGIN:VEVENT
DTSTART;VALUE=DATE:20240726
DTEND;VALUE=DATE:20240812
DTSTAMP:20260421T163852
CREATED:20240325T204024Z
LAST-MODIFIED:20240325T204024Z
UID:615-1721952000-1723420799@worldarcheryoceania.org
SUMMARY:Olympic Games Paris 2024
DESCRIPTION:The 2024 Summer Olympics\, officially the Games of the XXXIII Olympiad and commonly known as Paris 2024\, is an upcoming international multi-sport event scheduled to take place from 26 July to 11 August 2024
URL:https://worldarcheryoceania.org/event/olympic-games-paris-2024/
CATEGORIES:Olympic Games
END:VEVENT
END:VCALENDAR